BEGIN:VCALENDAR
PRODID:-//github.com/ical-org/ical.net//NONSGML ical.net 5.0.0//EN
VERSION:2.0
BEGIN:VEVENT
DESCRIPTION:<p>Organizer: Royal Norwegian Embassy in Berlin\; German Arctic
  Office at the Alfred Wegener Institute<br /><a href="https://www.arctic-o
 ffice.de/veranstaltungen/norways-and-germanys-contributions-to-the-fifth-i
 nternational-polar-year-2032/2033/">Learn more</a></p></p><p data-start="8
 2" data-end="321">Join the Alfred Wegener Institute (AWI) in an intriguing
  series of contributions to the <a href="https://www.awi.de/en/about-us/se
 rvice/events/details/default-80720a88d6bd59c3fc4e8ad484a4ec1b-1.html"><str
 ong data-start="170" data-end="214">Fifth International Polar Year 2032/20
 33</strong></a>\, exploring the frontiers of polar research and its global
  relevance.&nbsp\;<span class="ms-1 inline-flex max-w-full items-center re
 lative top-[-0.094rem] animate-[show_150ms_ease-in]" data-testid="webpage-
 citation-pill"></span></p>\n<ul data-start="500" data-end="734">\n<li data
 -start="500" data-end="560">\n<p data-start="502" data-end="560">Scientifi
 c talks and essays on polar systems and climate</p>\n</li>\n<li data-start
 ="561" data-end="632">\n<p data-start="563" data-end="632">Cross-disciplin
 ary perspectives connecting polar science to society</p>\n</li>\n<li data-
 start="633" data-end="734">\n<p data-start="635" data-end="734">Participat
 ion by leading polar researchers and institutions <span class="ms-1 inline
 -flex max-w-full items-center relative top-[-0.094rem] animate-[show_150ms
 _ease-in]" data-testid="webpage-citation-pill"><a rel="noopener" href="htt
 ps://www.awi.de/en/about-us/service/events/details/default-80720a88d6bd59c
 3fc4e8ad484a4ec1b-1.html" target="_blank" class="flex h-4.5 overflow-hidde
 n rounded-xl px-2 text-[9px] font-medium transition-colors duration-150 ea
 se-in-out text-token-text-secondary! bg-[#F4F4F4]! dark:bg-[#303030]!"><sp
 an class="relative start-0 bottom-0 flex h-full w-full items-center"><span
  class="flex h-4 w-full items-center justify-between overflow-hidden"><spa
 n class="max-w-[15ch] grow truncate overflow-hidden text-center">awi.de</s
 pan></span></span></a></span></p>\n</li>\n</ul>\n<p data-start="736" data-
 end="1015">Whether you’re a scientist\, student\, or simply fascinated b
 y the polar world\, this event offers a window into the science shaping ou
 r understanding of the coldest parts of Earth. Let me know if you want me 
 to craft a version with social media language or for a specific audience!<
 /p>
DTEND:20251105T170000Z
DTSTAMP:20260421T195427Z
DTSTART:20251105T140000Z
LOCATION:Nordic Embassies Felleshus\, Berlin\, Germany
SEQUENCE:0
SUMMARY:Contributions to IPY - AWI and Norwegian Embassy in Berlin
UID:dd5df253-1014-430b-8450-305ad11c1fe4
END:VEVENT
BEGIN:VTIMEZONE
TZID:UTC
X-LIC-LOCATION:UTC
BEGIN:STANDARD
DTSTART:20250101T000000
RRULE:FREQ=YEARLY;BYDAY=1WE;BYMONTH=1
TZNAME:UTC
TZOFFSETFROM:+0000
TZOFFSETTO:+0000
END:STANDARD
END:VTIMEZONE
END:VCALENDAR
